BEGIN:VCALENDAR
VERSION:2.0
PRODID:-//Run Like a Hero - ECPv6.15.17.1//NONSGML v1.0//EN
CALSCALE:GREGORIAN
METHOD:PUBLISH
X-ORIGINAL-URL:https://runlikeahero.com/pt-pt/
X-WR-CALDESC:Eventos para Run Like a Hero
REFRESH-INTERVAL;VALUE=DURATION:PT1H
X-Robots-Tag:noindex
X-PUBLISHED-TTL:PT1H
BEGIN:VTIMEZONE
TZID:Europe/Madrid
BEGIN:DAYLIGHT
TZOFFSETFROM:+0100
TZOFFSETTO:+0200
TZNAME:CEST
DTSTART:20230326T010000
END:DAYLIGHT
BEGIN:STANDARD
TZOFFSETFROM:+0200
TZOFFSETTO:+0100
TZNAME:CET
DTSTART:20231029T010000
END:STANDARD
BEGIN:DAYLIGHT
TZOFFSETFROM:+0100
TZOFFSETTO:+0200
TZNAME:CEST
DTSTART:20240331T010000
END:DAYLIGHT
BEGIN:STANDARD
TZOFFSETFROM:+0200
TZOFFSETTO:+0100
TZNAME:CET
DTSTART:20241027T010000
END:STANDARD
BEGIN:DAYLIGHT
TZOFFSETFROM:+0100
TZOFFSETTO:+0200
TZNAME:CEST
DTSTART:20250330T010000
END:DAYLIGHT
BEGIN:STANDARD
TZOFFSETFROM:+0200
TZOFFSETTO:+0100
TZNAME:CET
DTSTART:20251026T010000
END:STANDARD
END:VTIMEZONE
BEGIN:VEVENT
DTSTART;VALUE=DATE:20241014
DTEND;VALUE=DATE:20241028
DTSTAMP:20260425T174532
CREATED:20230726T114701Z
LAST-MODIFIED:20240909T082405Z
UID:24490-1728864000-1730073599@runlikeahero.com
SUMMARY:GLOBAL RUNNING WEEK 2024
DESCRIPTION:Trata-se de um evento desportivo virtual\, que se realizará de 19 a 27 de outubro de 2024\, onde poderá competir com pessoas de todo o mundo e\, ao mesmo tempo\, contribuir para a investigação da síndrome de Phelan McDermid e ajudar as pessoas doentes em todo o mundo. Lembre-se que pode participar na corrida de beneficência caminhando\, fazendo jogging ou correndo 5 quilómetros\, totalmente ao seu ritmo! E se o desporto não for a sua praia\, faça um donativo na modalidade Km Zero\, obtenha já o seu dorsal! Mais informações!
URL:https://runlikeahero.com/pt-pt/event/global-running-week-2024/
ORGANIZER;CN="Asociaci%C3%B3n S%C3%ADndrome Phelan Mcdermid":MAILTO:info@runlikeahero.com
END:VEVENT
END:VCALENDAR